BEGIN:VCALENDAR
VERSION:2.0
PRODID:-//wp-events-plugin.com//6.6.4.4//EN
BEGIN:VEVENT
UID:1@seas.ro
DTSTART:20250710T180000Z
DTEND:20250710T200000Z
DTSTAMP:20250624T114518Z
URL:https://seas.ro/e/richard-al-iii-lea/
SUMMARY:Richard al III-lea
DESCRIPTION:[vc_section el_class="bg-light"][vc_row][vc_column][vc_custom_h
 eading text="Richard al III-lea de William Shakespeare" use_theme_fonts="y
 es" css_animation="fadeInDown" css="" el_class="decorated align-left"][/vc
 _column][/vc_row][vc_row][vc_column width="1/2"][vc_column_text css=""]Pro
 ducător: Teatrul Național „Mihai Eminescu” Timișoara\n\nDistribuți
 a: Matei Chioariu\, Marin Lupanciuc\, Ion Rizea\, Claudia Ieremia\, Sorin 
 Leoveanu\, Bogdan Spiridon\, Darius Zet\, Cătălin Ursu\, Cristina Rotaru
  Chiperi\, Ana Maria Cojocaru\, Andrei Chifu\, Teodor Cauș\, Oana Iovița
 \, Alexandru Romescu\, Andrei Zgăbaia\n\nRegie: Radu IACOBAN\n\nTraducere
 : Horia GÂRBEA\n\nScenografie: Tudor PRODAN\n\nMișcare scenică: Alina I
 LEA\n\nDurata:  2h 45 min (o pauză)\n\nVârstă recomandată: 15+\n\n[/v
 c_column_text][/vc_column][vc_column width="1/2"][vc_column_text css=""]Si
 nopsis: \n\nRichard al III-lea de W. Shakespeare este un monumental și p
 asionant studiu de caz al răului\, dar și o demonstrație că singur\, u
 n monstru nu are putere\; ceea ce îi dă forța de a vicia o întreagă s
 ocietate este alinierea lașă a „omului obișnuit”\, a „supușilor 
 stăpânirii” în spatele unui personaj toxic\, detestabil. Alimentate d
 e mica și de marea delațiune\, de manipularea exersată în toate formel
 e ei – de la șantaj la cointeresare\, crescute de mersul alături de ad
 evăr și de confuzie\, semințele răului rodesc și se întind ca vrejul
  de fasole din poveste\, cuprind și sufocă oameni\, țări\, sisteme pol
 itice\; acceptarea răului din teamă sau din lașitate este cea care hră
 nește ucigașa nebunie totalitară. Într-un fascinant paralelism cu mome
 ntul planetar căruia îi suntem contemporani\, vremelnicul rege englez ra
 tează gloria până și în scurtul răstimp al puterii\, căci atunci c
 ând conștiința tace\, Răul devine personajul principal.\n\n[/vc_column
 _text][/vc_column][/vc_row][/vc_section][vc_section full_width="stretch_ro
 w" el_class="bg-section-specific"][vc_row][vc_column][vc_custom_heading te
 xt="Media" font_container="tag:h2|text_align:center" use_theme_fonts="yes"
  css_animation="fadeInDown" css="" el_class="decorated text-light"][/vc_co
 lumn][/vc_row][vc_row][vc_column][vc_video link="https://youtu.be/BSIcrXjK
 538" align="center" css=""][/vc_column][/vc_row][vc_row el_class="mt-sm"][
 vc_column][dt_gallery_masonry mode="grid" bwb_columns="desktop:4|h_tablet:
 4|v_tablet:3|phone:2" gap_between_posts="15px" image_sizing="resize" resiz
 ed_image_dimensions="4x3" image_border_radius="0px" project_icon_border_wi
 dth="0px" include="984\,983\,982\,981\,980\,979\,978\,977\,976\,975"][/vc_
 column][/vc_row][/vc_section]
ATTACH;FMTTYPE=image/jpeg:https://seas.ro/wp-content/uploads/2025/06/SEAS_
 Rama-spectacol_1080x1350_Richard-al-3-lea-timisoara.webp
CATEGORIES:#SEAS2025
LOCATION:Casa de cultură\, B-dul Alexandru Lapusneanu nr. 1\, Constanta\, 
 România
X-APPLE-STRUCTURED-LOCATION;VALUE=URI;X-ADDRESS=B-dul Alexandru Lapusneanu 
 nr. 1\, Constanta\, România;X-APPLE-RADIUS=100;X-TITLE=Casa de cultură:g
 eo:0,0
END:VEVENT
END:VCALENDAR